BEGIN:VCALENDAR
VERSION:2.0
PRODID:-//The Burns Foundation - ECPv6.15.20//NONSGML v1.0//EN
CALSCALE:GREGORIAN
METHOD:PUBLISH
X-ORIGINAL-URL:https://theburnsfoundationsc.org
X-WR-CALDESC:Events for The Burns Foundation
REFRESH-INTERVAL;VALUE=DURATION:PT1H
X-Robots-Tag:noindex
X-PUBLISHED-TTL:PT1H
BEGIN:VTIMEZONE
TZID:America/New_York
BEGIN:DAYLIGHT
TZOFFSETFROM:-0500
TZOFFSETTO:-0400
TZNAME:EDT
DTSTART:20250309T070000
END:DAYLIGHT
BEGIN:STANDARD
TZOFFSETFROM:-0400
TZOFFSETTO:-0500
TZNAME:EST
DTSTART:20251102T060000
END:STANDARD
BEGIN:DAYLIGHT
TZOFFSETFROM:-0500
TZOFFSETTO:-0400
TZNAME:EDT
DTSTART:20260308T070000
END:DAYLIGHT
BEGIN:STANDARD
TZOFFSETFROM:-0400
TZOFFSETTO:-0500
TZNAME:EST
DTSTART:20261101T060000
END:STANDARD
BEGIN:DAYLIGHT
TZOFFSETFROM:-0500
TZOFFSETTO:-0400
TZNAME:EDT
DTSTART:20270314T070000
END:DAYLIGHT
BEGIN:STANDARD
TZOFFSETFROM:-0400
TZOFFSETTO:-0500
TZNAME:EST
DTSTART:20271107T060000
END:STANDARD
END:VTIMEZONE
BEGIN:VEVENT
DTSTART;TZID=America/New_York:20260106T110000
DTEND;TZID=America/New_York:20260106T123000
DTSTAMP:20260425T054321
CREATED:20251211T043630Z
LAST-MODIFIED:20251219T072600Z
UID:487-1767697200-1767702600@theburnsfoundationsc.org
SUMMARY:January 2026 SC Thrive Food FARMacy Tuesday Pickup
DESCRIPTION:
URL:https://theburnsfoundationsc.org/event/january-2026-sc-thrive-food-farmacy-tuesday-pickup/
LOCATION:Francis Burns\, 5616 Farrow Rd\, Columbia\, SC\, 29203\, United States
CATEGORIES:Food FARMacy
ORGANIZER;CN="The Burns Foundation":MAILTO:stilltesting@gmailmail.com
END:VEVENT
BEGIN:VEVENT
DTSTART;TZID=America/New_York:20260203T110000
DTEND;TZID=America/New_York:20260203T123000
DTSTAMP:20260425T054321
CREATED:20251211T044503Z
LAST-MODIFIED:20251219T072543Z
UID:488-1770116400-1770121800@theburnsfoundationsc.org
SUMMARY:February 2026 SC Thrive Food FARMacy Tuesday Pickup
DESCRIPTION:
URL:https://theburnsfoundationsc.org/event/february-2026-sc-thrive-food-farmacy-tuesday-pickup/
LOCATION:Francis Burns\, 5616 Farrow Rd\, Columbia\, SC\, 29203\, United States
CATEGORIES:Food FARMacy
ORGANIZER;CN="The Burns Foundation":MAILTO:stilltesting@gmailmail.com
END:VEVENT
BEGIN:VEVENT
DTSTART;TZID=America/New_York:20260303T110000
DTEND;TZID=America/New_York:20260303T123000
DTSTAMP:20260425T054321
CREATED:20251211T044732Z
LAST-MODIFIED:20251219T072529Z
UID:489-1772535600-1772541000@theburnsfoundationsc.org
SUMMARY:March 2026 SC Thrive Food FARMacy Tuesday Pickup
DESCRIPTION:
URL:https://theburnsfoundationsc.org/event/march-2026-sc-thrive-food-farmacy-tuesday-pickup/
LOCATION:Francis Burns\, 5616 Farrow Rd\, Columbia\, SC\, 29203\, United States
CATEGORIES:Food FARMacy
ORGANIZER;CN="The Burns Foundation":MAILTO:stilltesting@gmailmail.com
END:VEVENT
BEGIN:VEVENT
DTSTART;TZID=America/New_York:20260407T110000
DTEND;TZID=America/New_York:20260407T123000
DTSTAMP:20260425T054321
CREATED:20251211T044820Z
LAST-MODIFIED:20251219T072514Z
UID:490-1775559600-1775565000@theburnsfoundationsc.org
SUMMARY:April 2026 SC Thrive Food FARMacy Tuesday Pickup
DESCRIPTION:
URL:https://theburnsfoundationsc.org/event/april-2026-sc-thrive-food-farmacy-tuesday-pickup/
LOCATION:Francis Burns\, 5616 Farrow Rd\, Columbia\, SC\, 29203\, United States
CATEGORIES:Food FARMacy
ORGANIZER;CN="The Burns Foundation":MAILTO:stilltesting@gmailmail.com
END:VEVENT
BEGIN:VEVENT
DTSTART;TZID=America/New_York:20260505T110000
DTEND;TZID=America/New_York:20260505T123000
DTSTAMP:20260425T054321
CREATED:20251211T044907Z
LAST-MODIFIED:20251219T072413Z
UID:491-1777978800-1777984200@theburnsfoundationsc.org
SUMMARY:May 2026 SC Thrive Food FARMacy Tuesday Pickup
DESCRIPTION:
URL:https://theburnsfoundationsc.org/event/may-2026-sc-thrive-food-farmacy-tuesday-pickup/
LOCATION:Francis Burns\, 5616 Farrow Rd\, Columbia\, SC\, 29203\, United States
CATEGORIES:Food FARMacy
ORGANIZER;CN="The Burns Foundation":MAILTO:stilltesting@gmailmail.com
END:VEVENT
BEGIN:VEVENT
DTSTART;TZID=America/New_York:20260602T093000
DTEND;TZID=America/New_York:20260602T110000
DTSTAMP:20260425T054321
CREATED:20251211T044936Z
LAST-MODIFIED:20251219T072337Z
UID:492-1780392600-1780398000@theburnsfoundationsc.org
SUMMARY:June 2026 SC Thrive Food FARMacy Tuesday Pickup
DESCRIPTION:
URL:https://theburnsfoundationsc.org/event/june-2026-sc-thrive-food-farmacy-tuesday-pickup/
LOCATION:Francis Burns\, 5616 Farrow Rd\, Columbia\, SC\, 29203\, United States
CATEGORIES:Food FARMacy
ORGANIZER;CN="The Burns Foundation":MAILTO:stilltesting@gmailmail.com
END:VEVENT
BEGIN:VEVENT
DTSTART;TZID=America/New_York:20260707T093000
DTEND;TZID=America/New_York:20260707T110000
DTSTAMP:20260425T054321
CREATED:20251211T045003Z
LAST-MODIFIED:20251219T072252Z
UID:493-1783416600-1783422000@theburnsfoundationsc.org
SUMMARY:July 2026 SC Thrive Food FARMacy Tuesday Pickup
DESCRIPTION:
URL:https://theburnsfoundationsc.org/event/july-2026-sc-thrive-food-farmacy-tuesday-pickup/
LOCATION:Francis Burns\, 5616 Farrow Rd\, Columbia\, SC\, 29203\, United States
CATEGORIES:Food FARMacy
ORGANIZER;CN="The Burns Foundation":MAILTO:stilltesting@gmailmail.com
END:VEVENT
BEGIN:VEVENT
DTSTART;TZID=America/New_York:20260804T093000
DTEND;TZID=America/New_York:20260804T110000
DTSTAMP:20260425T054321
CREATED:20251211T045030Z
LAST-MODIFIED:20251219T072234Z
UID:494-1785835800-1785841200@theburnsfoundationsc.org
SUMMARY:August 2026 SC Thrive Food FARMacy Tuesday Pickup
DESCRIPTION:
URL:https://theburnsfoundationsc.org/event/august-2026-sc-thrive-food-farmacy-tuesday-pickup/
LOCATION:Francis Burns\, 5616 Farrow Rd\, Columbia\, SC\, 29203\, United States
CATEGORIES:Food FARMacy
ORGANIZER;CN="The Burns Foundation":MAILTO:stilltesting@gmailmail.com
END:VEVENT
BEGIN:VEVENT
DTSTART;TZID=America/New_York:20260908T093000
DTEND;TZID=America/New_York:20260908T110000
DTSTAMP:20260425T054321
CREATED:20251211T051609Z
LAST-MODIFIED:20251219T072213Z
UID:504-1788859800-1788865200@theburnsfoundationsc.org
SUMMARY:September 2026 SC Thrive Food FARMacy Tuesday Pickup
DESCRIPTION:
URL:https://theburnsfoundationsc.org/event/september-2026-sc-thrive-food-farmacy-tuesday-pickup/
LOCATION:Francis Burns\, 5616 Farrow Rd\, Columbia\, SC\, 29203\, United States
CATEGORIES:Food FARMacy
ORGANIZER;CN="The Burns Foundation":MAILTO:stilltesting@gmailmail.com
END:VEVENT
BEGIN:VEVENT
DTSTART;TZID=America/New_York:20261006T093000
DTEND;TZID=America/New_York:20261006T110000
DTSTAMP:20260425T054321
CREATED:20251211T051718Z
LAST-MODIFIED:20251219T072152Z
UID:505-1791279000-1791284400@theburnsfoundationsc.org
SUMMARY:October 2026 SC Thrive Food FARMacy Tuesday Pickup
DESCRIPTION:
URL:https://theburnsfoundationsc.org/event/october-2026-sc-thrive-food-farmacy-tuesday-pickup/
LOCATION:Francis Burns\, 5616 Farrow Rd\, Columbia\, SC\, 29203\, United States
CATEGORIES:Food FARMacy
ORGANIZER;CN="The Burns Foundation":MAILTO:stilltesting@gmailmail.com
END:VEVENT
BEGIN:VEVENT
DTSTART;TZID=America/New_York:20261103T093000
DTEND;TZID=America/New_York:20261103T110000
DTSTAMP:20260425T054321
CREATED:20251211T051805Z
LAST-MODIFIED:20251219T072135Z
UID:506-1793698200-1793703600@theburnsfoundationsc.org
SUMMARY:November 2026 SC Thrive Food FARMacy Tuesday Pickup
DESCRIPTION:
URL:https://theburnsfoundationsc.org/event/november-2026-sc-thrive-food-farmacy-tuesday-pickup/
LOCATION:Francis Burns\, 5616 Farrow Rd\, Columbia\, SC\, 29203\, United States
CATEGORIES:Food FARMacy
ORGANIZER;CN="The Burns Foundation":MAILTO:stilltesting@gmailmail.com
END:VEVENT
BEGIN:VEVENT
DTSTART;TZID=America/New_York:20261208T110000
DTEND;TZID=America/New_York:20261208T123000
DTSTAMP:20260425T054321
CREATED:20251211T051947Z
LAST-MODIFIED:20251219T072020Z
UID:507-1796727600-1796733000@theburnsfoundationsc.org
SUMMARY:December 2026 SC Thrive Food FARMacy Tuesday Pickup
DESCRIPTION:
URL:https://theburnsfoundationsc.org/event/december-2026-sc-thrive-food-farmacy-tuesday-pickup/
LOCATION:Francis Burns\, 5616 Farrow Rd\, Columbia\, SC\, 29203\, United States
CATEGORIES:Food FARMacy
ORGANIZER;CN="The Burns Foundation":MAILTO:stilltesting@gmailmail.com
END:VEVENT
END:VCALENDAR