BEGIN:VCALENDAR
VERSION:2.0
PRODID:-//The Burns Foundation - ECPv6.15.20//NONSGML v1.0//EN
CALSCALE:GREGORIAN
METHOD:PUBLISH
X-ORIGINAL-URL:https://theburnsfoundationsc.org
X-WR-CALDESC:Events for The Burns Foundation
REFRESH-INTERVAL;VALUE=DURATION:PT1H
X-Robots-Tag:noindex
X-PUBLISHED-TTL:PT1H
BEGIN:VTIMEZONE
TZID:America/New_York
BEGIN:DAYLIGHT
TZOFFSETFROM:-0500
TZOFFSETTO:-0400
TZNAME:EDT
DTSTART:20250309T070000
END:DAYLIGHT
BEGIN:STANDARD
TZOFFSETFROM:-0400
TZOFFSETTO:-0500
TZNAME:EST
DTSTART:20251102T060000
END:STANDARD
BEGIN:DAYLIGHT
TZOFFSETFROM:-0500
TZOFFSETTO:-0400
TZNAME:EDT
DTSTART:20260308T070000
END:DAYLIGHT
BEGIN:STANDARD
TZOFFSETFROM:-0400
TZOFFSETTO:-0500
TZNAME:EST
DTSTART:20261101T060000
END:STANDARD
BEGIN:DAYLIGHT
TZOFFSETFROM:-0500
TZOFFSETTO:-0400
TZNAME:EDT
DTSTART:20270314T070000
END:DAYLIGHT
BEGIN:STANDARD
TZOFFSETFROM:-0400
TZOFFSETTO:-0500
TZNAME:EST
DTSTART:20271107T060000
END:STANDARD
END:VTIMEZONE
BEGIN:VEVENT
DTSTART;TZID=America/New_York:20261208T110000
DTEND;TZID=America/New_York:20261208T123000
DTSTAMP:20260425T113016
CREATED:20251211T051947Z
LAST-MODIFIED:20251219T072020Z
UID:507-1796727600-1796733000@theburnsfoundationsc.org
SUMMARY:December 2026 SC Thrive Food FARMacy Tuesday Pickup
DESCRIPTION:
URL:https://theburnsfoundationsc.org/event/december-2026-sc-thrive-food-farmacy-tuesday-pickup/
LOCATION:Francis Burns\, 5616 Farrow Rd\, Columbia\, SC\, 29203\, United States
CATEGORIES:Food FARMacy
ORGANIZER;CN="The Burns Foundation":MAILTO:stilltesting@gmailmail.com
END:VEVENT
END:VCALENDAR